BEGIN:VCALENDAR
VERSION:2.0
PRODID:-//ChamberMaster//Event Calendar 2.0//EN
METHOD:PUBLISH
X-PUBLISHED-TTL:P3D
REFRESH-INTERVAL:P3D
CALSCALE:GREGORIAN
BEGIN:VEVENT
DTSTART:20260311T164500Z
DTEND:20260311T180000Z
X-MICROSOFT-CDO-ALLDAYEVENT:FALSE
SUMMARY:Women in Business Leadership Lunch
DESCRIPTION:Women' Leadership Luncheon\n\nSponsored by Pioneer Fiber Internet
X-ALT-DESC;FMTTYPE=text/html:Women&#39\; Leadership Luncheon<br />\nSponsored by Pioneer Fiber Internet<br />\n<br />\n<br />\n<br />\n<br />\n<br />\n&nbsp\;
LOCATION:The Plantation Event Center 210 N Sara Rd Tuttle
UID:e.2721.1236
SEQUENCE:3
DTSTAMP:20260421T115336Z
URL:https://www.tuttleareachamber.com/events/details/women-in-business-leadership-lunch-1236
END:VEVENT

END:VCALENDAR
