BEGIN:VCALENDAR
VERSION:2.0
PRODID:-//ChamberMaster//Event Calendar 2.0//EN
METHOD:PUBLISH
X-PUBLISHED-TTL:P3D
REFRESH-INTERVAL:P3D
CALSCALE:GREGORIAN
BEGIN:VEVENT
DTSTART:20260803T120000Z
DTEND:20260803T140000Z
X-MICROSOFT-CDO-ALLDAYEVENT:FALSE
SUMMARY:Bridge Creek Teacher-Staff Breakfast
DESCRIPTION:Help us give back to our educators! Every year\, we gather gifts and monetary donations and partner with The First National Bank & Trust to host a Welcome Back breakfast for the school staff on their first day back from the summer. You can be a part of this awesome event by donating or helping us hand out gifts on the day of the event.
X-ALT-DESC;FMTTYPE=text/html:Help us give back to our educators! Every year\, we gather gifts and monetary donations and partner with The First National Bank &amp\; Trust to host a Welcome Back breakfast for the school staff on their first day back from the summer. You can be a part of this awesome event by donating or helping us hand out gifts on the day of the event.&nbsp\;
LOCATION:Woodland Hills Baptist Church
UID:e.2721.1240
SEQUENCE:3
DTSTAMP:20260423T225724Z
URL:https://www.tuttleareachamber.com/events/details/bridge-creek-teacher-staff-breakfast-1240
END:VEVENT

END:VCALENDAR
